BEGIN:VCALENDAR
VERSION:2.0
PRODID:-//Energieagentur Kreis Konstanz - ECPv6.15.17.1//NONSGML v1.0//EN
CALSCALE:GREGORIAN
METHOD:PUBLISH
X-WR-CALNAME:Energieagentur Kreis Konstanz
X-ORIGINAL-URL:https://www.energieagentur-kreis-konstanz.de
X-WR-CALDESC:Veranstaltungen für Energieagentur Kreis Konstanz
REFRESH-INTERVAL;VALUE=DURATION:PT1H
X-Robots-Tag:noindex
X-PUBLISHED-TTL:PT1H
BEGIN:VTIMEZONE
TZID:Europe/Berlin
BEGIN:DAYLIGHT
TZOFFSETFROM:+0100
TZOFFSETTO:+0200
TZNAME:CEST
DTSTART:20250330T010000
END:DAYLIGHT
BEGIN:STANDARD
TZOFFSETFROM:+0200
TZOFFSETTO:+0100
TZNAME:CET
DTSTART:20251026T010000
END:STANDARD
BEGIN:DAYLIGHT
TZOFFSETFROM:+0100
TZOFFSETTO:+0200
TZNAME:CEST
DTSTART:20260329T010000
END:DAYLIGHT
BEGIN:STANDARD
TZOFFSETFROM:+0200
TZOFFSETTO:+0100
TZNAME:CET
DTSTART:20261025T010000
END:STANDARD
BEGIN:DAYLIGHT
TZOFFSETFROM:+0100
TZOFFSETTO:+0200
TZNAME:CEST
DTSTART:20270328T010000
END:DAYLIGHT
BEGIN:STANDARD
TZOFFSETFROM:+0200
TZOFFSETTO:+0100
TZNAME:CET
DTSTART:20271031T010000
END:STANDARD
END:VTIMEZONE
BEGIN:VEVENT
DTSTART;TZID=Europe/Berlin:20260920T110000
DTEND;TZID=Europe/Berlin:20260920T150000
DTSTAMP:20260423T214347
CREATED:20260318T125105Z
LAST-MODIFIED:20260318T125431Z
UID:13939-1789902000-1789916400@www.energieagentur-kreis-konstanz.de
SUMMARY:20. September 2026: Schausonntag für E-Autos
DESCRIPTION:Im Rahmen der Europäischen Mobilitätswoche (EMW) lädt die Energieagentur am 20. September 2026 von 11:00 bis 17:00 Uhr zu einem besonderen Schausonntag  ein. Der genaue Ort wird noch bekannt gegeben. \nUnter dem Motto „E-Autos für Alle“ erhalten Bürger:innen spannende Einblicke in die Welt der Elektromobilität. Auf der Ausstellung präsentieren sich zahlreiche Marken und Modelle von E-Autos\, die live besichtigt werden können. Ob kompakter Stadtflitzer\, Familienfahrzeug oder leistungsstarker SUV – die Vielfalt zeigt\, dass Elektromobilität längst in der Breite angekommen ist. \nNeben der Fahrzeugausstellung bietet die Veranstaltung wertvolle Informationen zu aktuellen Entwicklungen\, Angeboten und Fördermöglichkeiten rund um die Elektromobilität im Landkreis Konstanz und Baden-Württemberg. Interessierte erfahren\, welche Modelle derzeit auf dem Markt verfügbar sind und wie ein Umstieg auf ein E-Auto im Alltag gelingen kann. \n„E-Autos sind vielfältig\, digitaler als je zuvor\, und begeistern durch hohe Effizienz“\, betont Gerd Burkert\, Geschäftsführer der Energieagentur Kreis Konstanz gemeinnützige GmbH\, der die Bedeutung der Elektromobilität für die Zukunft der Region hervorhebt. „Elektromobilität ist neben dem umweltfreundlichen Fahrrad die ideale Mobilitätsvariante\, wenn der öffentliche Nahverkehr nicht ausreicht“. \nAls unabhängige Beratungsstelle informiert die Energieagentur Kreis Konstanz gGmbH neutral über Chancen und Vorteile der E-Mobilität. Ziel ist es\, Hemmschwellen abzubauen und Bürgerinnen und Bürgern praxisnahe Antworten auf die Frage zu geben: „Gibt es ein Elektroauto\, das zu meinen Ansprüchen passt?“ \n\n\n\n\n Zum Kalender hinzufügen
URL:https://www.energieagentur-kreis-konstanz.de/event/schausonntag-elektromobilitaet/
END:VEVENT
END:VCALENDAR