BEGIN:VCALENDAR
VERSION:2.0
PRODID:-//Energieagentur Kreis Konstanz - ECPv6.15.17.1//NONSGML v1.0//EN
CALSCALE:GREGORIAN
METHOD:PUBLISH
X-ORIGINAL-URL:https://www.energieagentur-kreis-konstanz.de
X-WR-CALDESC:Veranstaltungen für Energieagentur Kreis Konstanz
REFRESH-INTERVAL;VALUE=DURATION:PT1H
X-Robots-Tag:noindex
X-PUBLISHED-TTL:PT1H
BEGIN:VTIMEZONE
TZID:Europe/Berlin
BEGIN:DAYLIGHT
TZOFFSETFROM:+0100
TZOFFSETTO:+0200
TZNAME:CEST
DTSTART:20220327T010000
END:DAYLIGHT
BEGIN:STANDARD
TZOFFSETFROM:+0200
TZOFFSETTO:+0100
TZNAME:CET
DTSTART:20221030T010000
END:STANDARD
BEGIN:DAYLIGHT
TZOFFSETFROM:+0100
TZOFFSETTO:+0200
TZNAME:CEST
DTSTART:20230326T010000
END:DAYLIGHT
BEGIN:STANDARD
TZOFFSETFROM:+0200
TZOFFSETTO:+0100
TZNAME:CET
DTSTART:20231029T010000
END:STANDARD
BEGIN:DAYLIGHT
TZOFFSETFROM:+0100
TZOFFSETTO:+0200
TZNAME:CEST
DTSTART:20240331T010000
END:DAYLIGHT
BEGIN:STANDARD
TZOFFSETFROM:+0200
TZOFFSETTO:+0100
TZNAME:CET
DTSTART:20241027T010000
END:STANDARD
END:VTIMEZONE
BEGIN:VEVENT
DTSTART;TZID=Europe/Berlin:20231005T190000
DTEND;TZID=Europe/Berlin:20231005T203000
DTSTAMP:20260425T225824
CREATED:20231004T140334Z
LAST-MODIFIED:20231004T155400Z
UID:10094-1696532400-1696537800@www.energieagentur-kreis-konstanz.de
SUMMARY:Stockach: Vortrag  Steckersolar - Strom von Balkon und Terrasse
DESCRIPTION:Steckersolargeräte\, auch als Balkonsolaranlagen bekannt\, sind für die Installation und Inbetriebnahme durch Laien konzipiert. Sie sind ideal für Mieterinnen und Mieter sowie Eigentümer von Geschosswohnungen. Durch Montage der Module z.B. am Balkon\, an der Fassade\, über dem Holzschuppen\, als Vordach oder Aufstellen auf Terrasse\, im Garten oder auf der Flachdachgarage können Sie recht problemlos Sonnenstrom ernten. Durch die Begrenzung der Anlagenleistung (derzeit noch auf 600 VA (Watt)) Wechselrichterleistung ist die Anlagengröße zwar begrenzt\, der Strom kann aber in der Regel direkt in einen Endstromkreis eingespeist werden\, was die Installation wesentlich vereinfacht. \nOb die Stromernte aus einem Steckersolargerät auch in Ihrem Gebäude sinnvoll ist\, erfahren Sie im Vortrag unseres Kooperationspartners Verbraucherzentrale Baden-Württemberg mit unseren Energieberater Achim Horn. \nDipl.-Energiewirt (FH) Achim Horn hat seine erste Photovoltaikanlage 1993 erstellt\, und seither durch Bau\, Planung und Beratung zu vielen Photovoltaikanlagen vielseitige Erfahrung sammeln können. Bringen Sie Ihre Fragen an den Energieberater mit! \nDer Vortrag wird durch das UmweltZentrum Stockach organisiert. Eine Anmeldung ist erforderlich unter 07771-4999 \nDie Energieberatung der Verbraucherzentrale wird gefördert durch das Bundesministerium für Wirtschaft und Klimaschutz (BMWK)\, und kann daher kostenfrei\, anbieterunabhängig und produktneutral erfolgen.
URL:https://www.energieagentur-kreis-konstanz.de/event/waermepumpe-vortrag-mit-workshop-2-2-2-3/
LOCATION:Stockach\, Umweltzentrum\, Hauptstr. 34\, Stockach\, Baden-Württemberg\, 77333
CATEGORIES:Vortrag
END:VEVENT
BEGIN:VEVENT
DTSTART;TZID=Europe/Berlin:20231012T180000
DTEND;TZID=Europe/Berlin:20231012T193000
DTSTAMP:20260425T225824
CREATED:20230712T105901Z
LAST-MODIFIED:20231004T140915Z
UID:9951-1697133600-1697139000@www.energieagentur-kreis-konstanz.de
SUMMARY:Online-Vortrag Steckersolar Strom von Balkon und Terrasse
DESCRIPTION:Steckersolargeräte\, auch als Balkonsolaranlagen bekannt\, sind für die Installation und Inbetriebnahme durch Laien konzipiert. Sie sind ideal für Mieterinnen und Mieter sowie Eigentümer von Geschosswohnungen. Durch Montage der Module z.B. am Balkon\, an der Fassade\, über dem Holzschuppen\, als Vordach oder Aufstellen auf Terrasse\, im Garten oder auf der Flachdachgarage können Sie recht problemlos Sonnenstrom ernten. Durch die derzeit noch gültige Begrenzung der Anlagenleistung auf (derzeit noch) 600 VA (Watt) Wechselrichterleistung ist die Anlagengröße zwar begrenzt\, der Strom kann aber in der Regel direkt in einen Endstromkreis eingespeist werden\, was die Installation wesentlich vereinfacht. \nOb die Stromernte aus einem Steckersolargerät auch in Ihrem Gebäude sinnvoll ist  und worauf Sie achten müssen\, erfahren Sie im Vortrag unseres Kooperationspartners Verbraucherzentrale Baden-Württemberg mit unseren Energieberater Achim Horn. \nDipl.-Energiewirt (FH) Achim Horn hat seine erste Photovoltaikanlage 1993 erstellt\, und seither durch Bau\, Planung und Beratung zu vielen Photovoltaikanlagen vielseitige Erfahrung sammeln können. Bringen Sie Ihre Fragen an den Energieberater mit! \nMelden Sie sich über das Anmeldeformular zum Online-Seminar an und nehmen Sie bequem von zu Hause aus teil. Die Teilnahme ist kostenlos. \nDie Energieberatung der Verbraucherzentrale wird gefördert durch das Bundesministerium für Wirtschaft und Klimaschutz (BMWK)\, und kann daher kostenfrei\, anbieterunabhängig und produktneutral erfolgen.
URL:https://www.energieagentur-kreis-konstanz.de/event/waermepumpe-vortrag-mit-workshop-2-2-4-2/
LOCATION:Baden-Württemberg
CATEGORIES:Online
END:VEVENT
END:VCALENDAR