BEGIN:VCALENDAR
VERSION:2.0
PRODID:-//Energieagentur Kreis Konstanz - ECPv6.15.17.1//NONSGML v1.0//EN
CALSCALE:GREGORIAN
METHOD:PUBLISH
X-WR-CALNAME:Energieagentur Kreis Konstanz
X-ORIGINAL-URL:https://www.energieagentur-kreis-konstanz.de
X-WR-CALDESC:Veranstaltungen für Energieagentur Kreis Konstanz
REFRESH-INTERVAL;VALUE=DURATION:PT1H
X-Robots-Tag:noindex
X-PUBLISHED-TTL:PT1H
BEGIN:VTIMEZONE
TZID:Europe/Berlin
BEGIN:DAYLIGHT
TZOFFSETFROM:+0100
TZOFFSETTO:+0200
TZNAME:CEST
DTSTART:20240331T010000
END:DAYLIGHT
BEGIN:STANDARD
TZOFFSETFROM:+0200
TZOFFSETTO:+0100
TZNAME:CET
DTSTART:20241027T010000
END:STANDARD
BEGIN:DAYLIGHT
TZOFFSETFROM:+0100
TZOFFSETTO:+0200
TZNAME:CEST
DTSTART:20250330T010000
END:DAYLIGHT
BEGIN:STANDARD
TZOFFSETFROM:+0200
TZOFFSETTO:+0100
TZNAME:CET
DTSTART:20251026T010000
END:STANDARD
BEGIN:DAYLIGHT
TZOFFSETFROM:+0100
TZOFFSETTO:+0200
TZNAME:CEST
DTSTART:20260329T010000
END:DAYLIGHT
BEGIN:STANDARD
TZOFFSETFROM:+0200
TZOFFSETTO:+0100
TZNAME:CET
DTSTART:20261025T010000
END:STANDARD
END:VTIMEZONE
BEGIN:VEVENT
DTSTART;TZID=Europe/Berlin:20250313T190000
DTEND;TZID=Europe/Berlin:20250313T203000
DTSTAMP:20260424T193708
CREATED:20250304T222640Z
LAST-MODIFIED:20250304T222640Z
UID:12336-1741892400-1741897800@www.energieagentur-kreis-konstanz.de
SUMMARY:Stockach: Vortrag  Solarstrom von Dach und Fassade zur Eigenversorgung
DESCRIPTION:Solarstromanlagen sind aktuell günstig und gut verfügbar. Die umweltfreundliche Stromerzeugung dezentral nahe am Verbraucher macht viel Sinn. Durch Nutzung der vorhandenen Dach- und Fassadenflächen kann oftmals mehr Strom umweltfreundlich und kostengünstig erzeugt werden als im Haus überhaupt benötigt wird. Doch es stellen sich immer noch viele Fragen. Mit welchen Kosten für Material\, Montage und Anschluss muss ich rechnen? Mit welcher Stromernte kann ich rechnen? Macht die zusätzliche Investition in einen Batteriespeicher Sinn? Werden Module sinnvollerweise auf dem Dach oder doch besser an der Fassade angebracht? Warum werden Photovoltaikmodule oftmals nach Ost- und West ausgerichtet? Soll das Dach vorab noch mittels Sanierung ertüchtigt werden oder bleibt der bescheidene Wärme- und Kälteschutz weitere Jahre so? Kann der Strom denn auch für die Wärmepumpe genutzt werden? Was passiert\, wenn zu viel Strom erzeugt wird? Darf ich überschüssigen Strom weiterhin einspeisen? Oder meine Nachbarschaft beliefern?  Welche Vergütung erhalte ich für eingespeisten Strom? Welche aktuellen gesetzlichen Anforderungen bestehen? Gibt es Fördermittel\, um die preiswerte umweltfreundliche Stromproduktion noch günstiger zu machen? \nWie die solare Stromerzeugung funktioniert\, und ob die Stromernte aus einer Photovoltaikanlage auch in Ihrem Gebäude sinnvoll ist\, erfahren Sie im Vortrag unseres Kooperationspartners Verbraucherzentrale Baden-Württemberg mit unseren Solarfachberater Achim Horn. \nDipl.-Energiewirt (FH) Achim Horn hat seine erste Photovoltaikanlage 1993 erstellt\, und seither durch Bau\, Planung und Beratung zu vielen Photovoltaikanlagen vielseitige Erfahrung sammeln können. Bringen Sie Ihre Fragen an den Energieberater mit! \nDer Vortrag wird durch das UmweltZentrum Stockach organisiert. Eine Anmeldung ist erforderlich unter 07771-4999 \nDie Energieberatung der Verbraucherzentrale wird gefördert durch das Bundesministerium für Wirtschaft und Klimaschutz (BMWK)\, und kann daher kostenfrei\, anbieterunabhängig und produktneutral erfolgen.
URL:https://www.energieagentur-kreis-konstanz.de/event/waermepumpe-vortrag-mit-workshop-2-2-2-3-4/
LOCATION:Stockach\, Umweltzentrum\, Hauptstr. 34\, Stockach\, Baden-Württemberg\, 77333
CATEGORIES:Vortrag
END:VEVENT
END:VCALENDAR