BEGIN:VCALENDAR
VERSION:2.0
PRODID:-//Energieagentur Kreis Konstanz - ECPv6.15.17.1//NONSGML v1.0//EN
CALSCALE:GREGORIAN
METHOD:PUBLISH
X-ORIGINAL-URL:https://www.energieagentur-kreis-konstanz.de
X-WR-CALDESC:Veranstaltungen für Energieagentur Kreis Konstanz
REFRESH-INTERVAL;VALUE=DURATION:PT1H
X-Robots-Tag:noindex
X-PUBLISHED-TTL:PT1H
BEGIN:VTIMEZONE
TZID:Europe/Berlin
BEGIN:DAYLIGHT
TZOFFSETFROM:+0100
TZOFFSETTO:+0200
TZNAME:CEST
DTSTART:20240331T010000
END:DAYLIGHT
BEGIN:STANDARD
TZOFFSETFROM:+0200
TZOFFSETTO:+0100
TZNAME:CET
DTSTART:20241027T010000
END:STANDARD
BEGIN:DAYLIGHT
TZOFFSETFROM:+0100
TZOFFSETTO:+0200
TZNAME:CEST
DTSTART:20250330T010000
END:DAYLIGHT
BEGIN:STANDARD
TZOFFSETFROM:+0200
TZOFFSETTO:+0100
TZNAME:CET
DTSTART:20251026T010000
END:STANDARD
BEGIN:DAYLIGHT
TZOFFSETFROM:+0100
TZOFFSETTO:+0200
TZNAME:CEST
DTSTART:20260329T010000
END:DAYLIGHT
BEGIN:STANDARD
TZOFFSETFROM:+0200
TZOFFSETTO:+0100
TZNAME:CET
DTSTART:20261025T010000
END:STANDARD
END:VTIMEZONE
BEGIN:VEVENT
DTSTART;TZID=Europe/Berlin:20251204T190000
DTEND;TZID=Europe/Berlin:20251204T210000
DTSTAMP:20260424T045223
CREATED:20251202T145526Z
LAST-MODIFIED:20251202T145526Z
UID:12930-1764874800-1764882000@www.energieagentur-kreis-konstanz.de
SUMMARY:Stockach: Vortrag  Steckersolar - Strom von Balkon und Terrasse
DESCRIPTION:﻿Steckersolargeräte\, auch als Balkonsolaranlagen bekannt\, sind für die Installation und Inbetriebnahme durch Laien konzipiert. Sie sind ideal für Mieterinnen und Mieter sowie Eigentümer von Geschosswohnungen. Durch Montage der Module z.B. am Balkon\, an der Fassade\, über dem Holzschuppen\, als Vordach oder Aufstellen auf Terrasse\, im Garten oder auf der Flachdachgarage können Sie recht problemlos Sonnenstrom ernten. Durch die Begrenzung der Wechselrichter-Ausgangsleistung ist die Anlagengröße zwar begrenzt\, der Strom kann aber in der Regel direkt in einen Endstromkreis eingespeist werden\, was die Installation wesentlich vereinfacht. \nOb die Stromernte aus einem Steckersolargerät auch in Ihrem Gebäude sinnvoll ist\, und wie die aktuellen rechtlichen Vorgaben sind\, erfahren Sie im Vortrag unseres Kooperationspartners Verbraucherzentrale Baden-Württemberg mit unseren Energieberater Achim Horn. \nDipl.-Energiewirt (FH) und Solarfachberater Achim Horn hat seine erste Photovoltaikanlage 1993 erstellt\, und seither durch Bau\, Planung und Beratung zu vielen Photovoltaikanlagen vielseitige Erfahrung sammeln können. Bringen Sie Ihre Fragen an den Energieberater mit! \nDer Vortrag wird durch das UmweltZentrum Stockach organisiert. Eine Anmeldung ist erforderlich unter 07771-4999 \nDie Energieberatung der Verbraucherzentrale wird gefördert durch das Bundesministerium für Wirtschaft und Energie (BMWE)\, und kann daher kostenfrei\, anbieterunabhängig und produktneutral erfolgen.
URL:https://www.energieagentur-kreis-konstanz.de/event/waermepumpe-vortrag-mit-workshop-2-2-2-3-3-2-3/
LOCATION:Stockach\, Umweltzentrum\, Hauptstr. 34\, Stockach\, Baden-Württemberg\, 77333
CATEGORIES:Vortrag
END:VEVENT
END:VCALENDAR