BEGIN:VCALENDAR
VERSION:2.0
PRODID:-//Energieagentur Kreis Konstanz - ECPv6.15.17.1//NONSGML v1.0//EN
CALSCALE:GREGORIAN
METHOD:PUBLISH
X-WR-CALNAME:Energieagentur Kreis Konstanz
X-ORIGINAL-URL:https://www.energieagentur-kreis-konstanz.de
X-WR-CALDESC:Veranstaltungen für Energieagentur Kreis Konstanz
REFRESH-INTERVAL;VALUE=DURATION:PT1H
X-Robots-Tag:noindex
X-PUBLISHED-TTL:PT1H
BEGIN:VTIMEZONE
TZID:Europe/Berlin
BEGIN:DAYLIGHT
TZOFFSETFROM:+0100
TZOFFSETTO:+0200
TZNAME:CEST
DTSTART:20220327T010000
END:DAYLIGHT
BEGIN:STANDARD
TZOFFSETFROM:+0200
TZOFFSETTO:+0100
TZNAME:CET
DTSTART:20221030T010000
END:STANDARD
BEGIN:DAYLIGHT
TZOFFSETFROM:+0100
TZOFFSETTO:+0200
TZNAME:CEST
DTSTART:20230326T010000
END:DAYLIGHT
BEGIN:STANDARD
TZOFFSETFROM:+0200
TZOFFSETTO:+0100
TZNAME:CET
DTSTART:20231029T010000
END:STANDARD
BEGIN:DAYLIGHT
TZOFFSETFROM:+0100
TZOFFSETTO:+0200
TZNAME:CEST
DTSTART:20240331T010000
END:DAYLIGHT
BEGIN:STANDARD
TZOFFSETFROM:+0200
TZOFFSETTO:+0100
TZNAME:CET
DTSTART:20241027T010000
END:STANDARD
END:VTIMEZONE
BEGIN:VEVENT
DTSTART;TZID=Europe/Berlin:20230710T100000
DTEND;TZID=Europe/Berlin:20230710T113000
DTSTAMP:20260425T175618
CREATED:20230601T210534Z
LAST-MODIFIED:20230712T110527Z
UID:9574-1688983200-1688988600@www.energieagentur-kreis-konstanz.de
SUMMARY:Online-Vortrag mit Workshop: Steckersolar
DESCRIPTION:Steckersolargeräte\, auch als Balkonsolaranlagen bekannt\, sind für die Installation und Inbetriebnahme durch Laien konzipiert. Sie sind ideal für Mieterinnen und Mieter sowie Eigentümer von Geschosswohnungen. Durch Montage der Module z.B. am Balkon\, an der Fassade\, über dem Holzschuppen\, als Vordach oder Aufstellen auf Terrasse\, im Garten oder auf der Flachdachgarage können auch Mieter Sonnenstrom ernten. Ob die Stromernte aus einem Steckersolargerät auch in Ihrem Gebäude sinnvoll ist und welche Randparameter zu beachte sind erfahren Sie im Online-Seminar/Workshop unseres Kooperationspartners Verbraucherzentrale Baden-Württemberg mit unseren Energieberater:innen Tina Götsch\, Achim Horn (Referent) und Andreas Köhler. \nDipl.-Energiewirt (FH) Achim Horn hat seine erste Photovoltaikanlage 1993 erstellt\, und seither durch Bau\, Planung und Beratung zu vielen Photovoltaikanlagen vielseitige Erfahrung sammeln können. Er gibt zuerst einen Einführungsvortrag mit wesentlichen Informationen zum Thema. Dann sind Sie an der Reihe. Stellen Sie Ihre Fragen an die Energieberater:innen! \nMelden Sie sich über das Anmeldeformular zum Online-Seminar an und nehmen Sie bequem von zu Hause aus teil – die Teilnahme ist kostenlos. \nHinweis: Da Sie nach dem Vortrag Fragen stellen können\, sollten Sie ein Headset mit Mikrofon oder ein Mikrofon im PC/Notebook zur Verfügung haben. Wenn Sie eine Webcam haben\, dann schalten Sie diese gerne ein – Sie sind dadurch für alle Teilnehmenden sichtbar.
URL:https://www.energieagentur-kreis-konstanz.de/event/waermepumpe-vortrag-mit-workshop-2-2-3-3/
CATEGORIES:Online
END:VEVENT
BEGIN:VEVENT
DTSTART;TZID=Europe/Berlin:20230718T180000
DTEND;TZID=Europe/Berlin:20230718T193000
DTSTAMP:20260425T175618
CREATED:20230601T211603Z
LAST-MODIFIED:20230712T110449Z
UID:9580-1689703200-1689708600@www.energieagentur-kreis-konstanz.de
SUMMARY:Online-Vortrag mit Workshop: Steckersolar
DESCRIPTION:Steckersolargeräte\, auch als Balkonsolaranlagen bekannt\, sind für die Installation und Inbetriebnahme durch Laien konzipiert. Sie sind ideal für Mieterinnen und Mieter sowie Eigentümer von Geschosswohnungen. Durch Montage der Module z.B. am Balkon\, an der Fassade\, über dem Holzschuppen\, als Vordach oder Aufstellen auf Terrasse\, im Garten oder auf der Flachdachgarage können auch Mieter Sonnenstrom ernten. Ob die Stromernte aus einem Steckersolargerät auch in Ihrem Gebäude sinnvoll ist und welche Randparameter zu beachte sind erfahren Sie im Online-Seminar/Workshop unseres Kooperationspartners Verbraucherzentrale Baden-Württemberg mit unseren Energieberater:innen Tina Götsch\, Achim Horn (Referent) und Andreas Köhler. \nDipl.-Energiewirt (FH) Achim Horn hat seine erste Photovoltaikanlage 1993 erstellt\, und seither durch Bau\, Planung und Beratung zu vielen Photovoltaikanlagen vielseitige Erfahrung sammeln können. Er gibt zuerst einen Einführungsvortrag mit wesentlichen Informationen zum Thema. Dann sind Sie an der Reihe. Stellen Sie Ihre Fragen an die Energieberater:innen! \nMelden Sie sich über das Anmeldeformular zum Online-Seminar an und nehmen Sie bequem von zu Hause aus teil – die Teilnahme ist kostenlos. \nHinweis: Da Sie nach dem Vortrag Fragen stellen können\, sollten Sie ein Headset mit Mikrofon oder ein Mikrofon im PC/Notebook zur Verfügung haben. Wenn Sie eine Webcam haben\, dann schalten Sie diese gerne ein – Sie sind dadurch für alle Teilnehmenden sichtbar.
URL:https://www.energieagentur-kreis-konstanz.de/event/waermepumpe-vortrag-mit-workshop-2-2-3-2/
CATEGORIES:Online
END:VEVENT
BEGIN:VEVENT
DTSTART;TZID=Europe/Berlin:20230719T190000
DTEND;TZID=Europe/Berlin:20230719T213000
DTSTAMP:20260425T175618
CREATED:20230712T094848Z
LAST-MODIFIED:20230712T110340Z
UID:9942-1689793200-1689802200@www.energieagentur-kreis-konstanz.de
SUMMARY:Radolfzell\, Musiksaal im Berufsschulzentrum Stammtisch Steckersolar - Strom von Balkon und Terrasse
DESCRIPTION:Steckersolargeräte\, auch als Balkonsolaranlagen bekannt\, sind für die Installation und Inbetriebnahme durch Laien konzipiert. Sie sind ideal für Mieterinnen und Mieter sowie Eigentümer von Geschosswohnungen. Durch Montage der Module z.B. am Balkon\, an der Fassade\, über dem Holzschuppen\, als Vordach oder Aufstellen auf Terrasse\, im Garten oder auf der Flachdachgarage können Sie recht problemlos Sonnenstrom ernten. Durch die Begrenzung der Anlagenleistung (derzeit noch) auf 600 VA (Watt) Wechselrichterleistung ist die Anlagengröße zwar begrenzt\, der Strom kann aber in der Regel direkt in einen Endstromkreis eingespeist werden\, was den Installationsaufwand gering hält. \nDoch auch bei der Entscheidung für ein Steckersolargerät zählt der Blick auf Qualität der Bauteile und der Umsetzung. Sind die Module sturmsicher montiert? Welche Module dürfen über Zuwegen/Verkehrswegen angebracht werden? Ist das Angebot für die Montage außen am Balkon im 4. Stock geeignet? Wird eine Spezialsteckdose benötigt? Muss der Vermieter gefragt werden? Ist ein neuer Zähler erforderlich? Kostet der Zählerwechsel was? Welcher Wechselrichter ist der richtige? Wie kann ich überwachen\, ob das Steckersolargerät die versprochenen Strommenge erzeugt? Kann ich prüfen\, ob die Module die verkaufte Leistung bringen? Brauche ich eine Batterie?  ….. \nDer erste Stammtisch Steckersolar / Balkonsolar ist das Ergebnis der Radolfzeller Mitmachkonferenz. Der Wunsch\, den Austausch zu ermöglichen. Hilfe zu erhalten bei Unklarheit. \nDer erste Radolfzeller Stammtisch Steckersolar / Balkonsolar wird begleitet durch Experten der Energieagentur Kreis Konstanz gGmbH.
URL:https://www.energieagentur-kreis-konstanz.de/event/waermepumpe-vortrag-mit-workshop-2-2-2-2/
CATEGORIES:Online
ORGANIZER;CN="Energieagentur Kreis Konstanz":MAILTO:info@energieagentur-kreis-konstanz.de
END:VEVENT
BEGIN:VEVENT
DTSTART;TZID=Europe/Berlin:20230724T180000
DTEND;TZID=Europe/Berlin:20230724T193000
DTSTAMP:20260425T175618
CREATED:20230712T104958Z
LAST-MODIFIED:20230712T110240Z
UID:9948-1690221600-1690227000@www.energieagentur-kreis-konstanz.de
SUMMARY:Online-Vortrag Steckersolar Strom von Balkon und Terrasse
DESCRIPTION:Steckersolargeräte\, auch als Balkonsolaranlagen bekannt\, sind für die Installation und Inbetriebnahme durch Laien konzipiert. Sie sind ideal für Mieterinnen und Mieter sowie Eigentümer von Geschosswohnungen. Durch Montage der Module z.B. am Balkon\, an der Fassade\, über dem Holzschuppen\, als Vordach oder Aufstellen auf Terrasse\, im Garten oder auf der Flachdachgarage können Sie recht problemlos Sonnenstrom ernten. Durch die derzeit noch gültige Begrenzung der Anlagenleistung auf 600 VA (Watt) Wechselrichterleistung ist die Anlagengröße zwar begrenzt\, der Strom kann aber in der Regel direkt in einen Endstromkreis eingespeist werden\, was die Installation wesentlich vereinfacht. \nOb die Stromernte aus einem Steckersolargerät auch in Ihrem Gebäude sinnvoll ist  und worauf Sie achten müssen\, erfahren Sie im Vortrag unseres Kooperationspartners Verbraucherzentrale Baden-Württemberg mit unseren Energieberater Achim Horn. \nDipl.-Energiewirt (FH) Achim Horn hat seine erste Photovoltaikanlage 1993 erstellt\, und seither durch Bau\, Planung und Beratung zu vielen Photovoltaikanlagen vielseitige Erfahrung sammeln können. Bringen Sie Ihre Fragen an den Energieberater mit! \nMelden Sie sich über das Anmeldeformular zum Online-Seminar an und nehmen Sie bequem von zu Hause aus teil. Die Teilnahme ist kostenlos. \nDie Energieberatung der Verbraucherzentrale wird gefördert durch das Bundesministerium für Wirtschaft und Klimaschutz (BMWK)\, und kann daher kostenfrei\, anbieterunabhängig und produktneutral erfolgen.
URL:https://www.energieagentur-kreis-konstanz.de/event/waermepumpe-vortrag-mit-workshop-2-2-4/
CATEGORIES:Online
END:VEVENT
END:VCALENDAR